BEGIN:VCALENDAR
VERSION:2.0
PRODID:-//North Fork Women - ECPv6.15.20//NONSGML v1.0//EN
CALSCALE:GREGORIAN
METHOD:PUBLISH
X-WR-CALNAME:North Fork Women
X-ORIGINAL-URL:https://www.northforkwomen.org
X-WR-CALDESC:Events for North Fork Women
REFRESH-INTERVAL;VALUE=DURATION:PT1H
X-Robots-Tag:noindex
X-PUBLISHED-TTL:PT1H
BEGIN:VTIMEZONE
TZID:America/New_York
BEGIN:DAYLIGHT
TZOFFSETFROM:-0500
TZOFFSETTO:-0400
TZNAME:EDT
DTSTART:20250309T070000
END:DAYLIGHT
BEGIN:STANDARD
TZOFFSETFROM:-0400
TZOFFSETTO:-0500
TZNAME:EST
DTSTART:20251102T060000
END:STANDARD
BEGIN:DAYLIGHT
TZOFFSETFROM:-0500
TZOFFSETTO:-0400
TZNAME:EDT
DTSTART:20260308T070000
END:DAYLIGHT
BEGIN:STANDARD
TZOFFSETFROM:-0400
TZOFFSETTO:-0500
TZNAME:EST
DTSTART:20261101T060000
END:STANDARD
BEGIN:DAYLIGHT
TZOFFSETFROM:-0500
TZOFFSETTO:-0400
TZNAME:EDT
DTSTART:20270314T070000
END:DAYLIGHT
BEGIN:STANDARD
TZOFFSETFROM:-0400
TZOFFSETTO:-0500
TZNAME:EST
DTSTART:20271107T060000
END:STANDARD
END:VTIMEZONE
BEGIN:VEVENT
DTSTART;TZID=America/New_York:20260418T170000
DTEND;TZID=America/New_York:20260418T210000
DTSTAMP:20260421T043846
CREATED:20250212T145613Z
LAST-MODIFIED:20260312T105733Z
UID:55240-1776531600-1776546000@www.northforkwomen.org
SUMMARY:2026 FOUNDERS AWARD
DESCRIPTION:Christine P'SimerClick image to view Chris's bio Marjorie SnyderClick image to view Marj's bio Christine P'SimerClick image to view Chris's bio Marjorie SnyderClick image to view Marj's bio Christine P'SimerClick image to view Chris's bio Marjorie SnyderClick image to view Marj's bio The 2026 Lucille Field Goodman\nFounders Awards\nHonors \nChristine P’Simer\nand Marjorie Snyder\nSaturday\, April 18\, 2026 • 5 – 9 p.m.\nat RGNY Vineyard\, 6025 Sound Ave.\, Riverhead\, NY\nMembers and all welcoming friends are invited to join us in honoring these vital members of North Fork Women.\nOnline ticket sales have ended.\nTickets will be available at the door for $100 per person starting at 5 p.m. on Saturday\, April18\, 2026.\nTickets include a celebratory glass of wine\, passed appetizers\, buffet dinner\, dessert\, and dancing by DJ SLAYJ. \nRGNY Winery: 6025 Sound Avenue\, Riverhead\, NY 11901 \nCatering Sponsor: CJ's American Grill\nHost Sponsor: RGNY Vineyard
URL:https://www.northforkwomen.org/event/founders26/
LOCATION:RGNY Vineyard\, 6025 Sound Avenue\, Riverhead\, NY\, 11901\, United States
CATEGORIES:Home
ATTACH;FMTTYPE=image/jpeg:https://www.northforkwomen.org/wp-content/uploads/2025/02/FA26-HEADER-F.jpg
ORGANIZER;CN="North Fork Women":MAILTO:info@northforkwomen.org
GEO:40.9823737;-72.5898444
X-APPLE-STRUCTURED-LOCATION;VALUE=URI;X-ADDRESS=RGNY Vineyard 6025 Sound Avenue Riverhead NY 11901 United States;X-APPLE-RADIUS=500;X-TITLE=6025 Sound Avenue:geo:-72.5898444,40.9823737
END:VEVENT
END:VCALENDAR